BEGIN:VCALENDAR
VERSION:2.0
PRODID:-//WillsWay Equestrian Center - ECPv6.0.12//NONSGML v1.0//EN
CALSCALE:GREGORIAN
METHOD:PUBLISH
X-WR-CALNAME:WillsWay Equestrian Center
X-ORIGINAL-URL:https://willswayequestriancenter.com
X-WR-CALDESC:Events for WillsWay Equestrian Center
REFRESH-INTERVAL;VALUE=DURATION:PT1H
X-Robots-Tag:noindex
X-PUBLISHED-TTL:PT1H
BEGIN:VTIMEZONE
TZID:UTC
BEGIN:STANDARD
TZOFFSETFROM:+0000
TZOFFSETTO:+0000
TZNAME:UTC
DTSTART:20220101T000000
END:STANDARD
END:VTIMEZONE
BEGIN:VEVENT
DTSTART;TZID=UTC:20220603T140000
DTEND;TZID=UTC:20220604T170000
DTSTAMP:20260419T184203
CREATED:20220517T115122Z
LAST-MODIFIED:20220518T120034Z
UID:6782-1654264800-1654362000@willswayequestriancenter.com
SUMMARY:Dressage Fix-A-Test with Carol Seaman
DESCRIPTION:Join us on June 3rd and 4th for a Fix-A-Test clinic with USDF / USEF Silver Medalist and “L” judge\, Carol Seaman. \nStart your show season off right…\n…Ride your test\, be judged\, then work on improving the ride\,\nLearn how to scribe\,\nPractice calling a test…\n…all for only$75.00. Isn’t your show season worth it?! \nHIGH POINT WINNER receives a FREE LESSON WITH CAROL🐴 \nFix-A-Test Clinic Registration Form
URL:https://willswayequestriancenter.com/event/dressage-fix-a-test-with-carol-seaman/
LOCATION:WillsWay Equestrian Center\, 270 Conklingtown Road\, Goshen\, NY\, 10924\, United States
ORGANIZER;CN="Gretchen":MAILTO:willswayequestrian@gmail.com
END:VEVENT
BEGIN:VEVENT
DTSTART;TZID=UTC:20220627T090000
DTEND;TZID=UTC:20220701T150000
DTSTAMP:20260419T184203
CREATED:20220323T045045Z
LAST-MODIFIED:20220323T133421Z
UID:6426-1656320400-1656687600@willswayequestriancenter.com
SUMMARY:Summer Camp Week
DESCRIPTION:SADDLE UP…IT’S TIME FOR SUMMER CAMP!\nChildren will enjoy a super fun camp week learning to ride and care for horses in addition to games\, crafts and making new friends.\nMonday thru Friday 9:00 a.m. – 3:00 p.m. / Early drop-off and Late pick-up available \n \n2022 Camp Application \nEQUINE ACTIVITY RELEASE AND HOLD HARMLESS AGREEMENT 2022 \n#enjoysummerridehorses\, #keepcalmrideon\, #livelaughride \n  \n  \n 
URL:https://willswayequestriancenter.com/event/6426/
LOCATION:WillsWay Equestrian Center\, 270 Conklingtown Road\, Goshen\, NY\, 10924\, United States
END:VEVENT
END:VCALENDAR